BEGIN:VCALENDAR
VERSION:2.0
PRODID:icalendar-ruby
CALSCALE:GREGORIAN
METHOD:PUBLISH
BEGIN:VEVENT
DTSTAMP:20260425T012105Z
UID:1132-515685@edmonton.anglican.ca
DTSTART:20241209T020000Z
DTEND:20241209T020000Z
CLASS:PUBLIC
CREATED:20241125T095710
DESCRIPTION:Join Holy Trinity\, 617-50 St\, Edson\, for a Community Christm
 as sing-along with special guest performances\, on December 8\, at 7 pm. E
 njoy refreshments and browse the Christmas tables.
LAST-MODIFIED:20241125T095710
LOCATION:Holy Trinity Anglican Lutheran Church\,  617-50 St\, Edson
SUMMARY:Community Christmas Carol Sing Along
URL;VALUE=URI:https://www.edmonton.anglican.ca/events/community-christmas-c
 arol-sing-along/2024-12-08
ATTACH;FILENAME=Edson Community Sing Along.jpg;FMTTYPE=image/jpeg:https://d
 q5pwpg1q8ru0.cloudfront.net/2024/11/25/16/53/53/ed71442d-fde9-4e70-9e0d-5b
 88c6a614a2/Edson%20Community%20Sing%20Along.jpg
END:VEVENT
END:VCALENDAR
