BEGIN:VCALENDAR
VERSION:2.0
PRODID:icalendar-ruby
CALSCALE:GREGORIAN
METHOD:PUBLISH
BEGIN:VEVENT
DTSTAMP:20260425T002912Z
UID:1280-1266959@edmonton.anglican.ca
DTSTART:20260214T213000Z
DTEND:20260214T233000Z
CLASS:PUBLIC
CREATED:20260205T110819
DESCRIPTION:Sing with love is a big\, noisy\, songful show of love and supp
 ort for Alberta's 2SLGBTQ+ community. The event is a collaborative perform
 ance from Edmonton's choral community. The concert is a warm blanket of lo
 ve and trans solidarity.\nRead more and buy tickets (by donation)
LAST-MODIFIED:20260205T110819
LOCATION:Robertson-Wesley United Church 10209 123 ST NW\, Edmonton
SUMMARY:Sing With Love 2026: Songs of Trans Solidarity
URL;VALUE=URI:https://www.edmonton.anglican.ca/events/sing-with-love-2026-s
 ongs-of-trans-solidarity/2026-02-14
END:VEVENT
END:VCALENDAR
